Workbook
Name _: #REF!
Name _: #REF!
Name _1_0일관: #REF!
Name _10a32767_: #REF!
Name _15단: #REF!
Name _6_0토: [1]설계명세서!#REF!
Name _7_0토: [1]설계명세서!#REF!
Name _90_ADTER: [2]기준자료!#REF!
Name _A1: '물량산출-세부내역'!_A1
Name _A1: [0]!_A1
Name _AMI1: [3]기별!#REF!
Name _AMI2: [3]기별!#REF!
Name _arm1: [4]설계명세서!#REF!
Name _arm2: [5]설계명세서!#REF!
Name _arm3: [4]설계명세서!#REF!
Name _ATP9: [6]아파트기별!$AL$52
Name _CAB1: [3]기별!#REF!
Name _CAB2: [3]기별!#REF!
Name _cbl2: #REF!
Name _cbl3: #REF!
Name _cbl4: #REF!
Name _cbl5: #REF!
Name _CPU466: #REF!
Name _CPU500: #REF!
Name _CRI7: [6]아파트기별!$AN$52
Name _CSU1: #REF!
Name _CSU2: #REF!
Name _CSU3: #REF!
Name _FDM2: #REF!
Name _FDM4: #REF!
Name _FDM6: #REF!
Name _FDM8: #REF!
Name _fkn1: #REF!
Name _fkn2: #REF!
Name _fks1: #REF!
Name _fks2: #REF!
Name _FLC1: #REF!
Name _FLC2: #REF!
Name _gbi1: #REF!
Name _gbi2: #REF!
Name _gbi3: #REF!
Name _gbi4: #REF!
Name _gbi5: #REF!
Name _gbi6: #REF!
Name _gbi7: #REF!
Name _gbi8: #REF!
Name _gbi9: #REF!
Name _GIS2: [3]기별!#REF!
Name _IDF1: #REF!
Name _IDF15: #REF!
Name _IDF2: #REF!
Name _IDF3: #REF!
Name _idf4: [7]소요자재!$H$49
Name _idf5: [7]소요자재!$H$67
Name _idf6: [7]소요자재!$H$68
Name _ind1: #REF!
Name _ind10: #REF!
Name _ind11: [8]투자효율분석!$D$21
Name _ind12: [8]투자효율분석!$E$21
Name _ind13: [8]투자효율분석!$D$22

Sheet 단순정비 설계
A2: 단순정비 정산설계서
A3: 단순정비명 : | B3: 예산지사 고객지원부 인터넷망 OS 재설치
A4: 공사 번호 | B4: 분류 | C4: 공사 기간 | D4: 1차 사업소 | E4: 2차 사업소 | F4: 장소-공사명 | G4: 통보자 | H4: 자 재 비 | M4: 기기설치품 | R4: 비 고
H5: 자 재 명 | I5: 수량 (A) | J5: 단 가 (B) | K5: 금 액 (C=A*B) | L5: 비 고 | M5: 서비스 번호 | N5: 종 류 | O5: 대수 (D) | P5: 적용 ERP단가 (E) | Q5: 금 액 (F=D*E)
A7: [정보통신분야] | T7: 지우지마세요
A8: HA091904 | B8: 단순정비 | C8: 2021/05/17 ~ 2021/05/24 | D8: 대전세종충남본부 | E8: 예산지사 | F8: 인터넷망 OS 재설치 | G8: 이현지 | K8: =I8*J8 -> 0 | M8: 20002240 | N8: =IFERROR(VLOOKUP(M8,서비스코드!$B:$R,10,FALSE),"") -> [시간내] 정보통신 기기류 PC S/W 설치 PC S/W 설치 신증설 | O8: 1 | P8: =IFERROR(VLOOKUP(M8,서비스코드!$B:$R,17,FALSE),"") -> 57667 | Q8: =IFERROR(O8*P8,"") -> 57667 | T8: =IFERROR(VLOOKUP(M8,서비스코드!$B:$R,13,FALSE),"") -> 118380
K9: =I9*J9 -> 0 | N9: =IFERROR(VLOOKUP(M9,서비스코드!$B:$R,10,FALSE),"") | P9: =IFERROR(VLOOKUP(M9,서비스코드!$B:$R,17,FALSE),"") | Q9: =IFERROR(O9*P9,"") | T9: =IFERROR(VLOOKUP(M9,서비스코드!$B:$R,13,FALSE),"")
K10: =I10*J10 -> 0 | N10: =IFERROR(VLOOKUP(M10,서비스코드!$B:$R,10,FALSE),"") | P10: =IFERROR(VLOOKUP(M10,서비스코드!$B:$R,17,FALSE),"") | Q10: =IFERROR(O10*P10,"") | T10: =IFERROR(VLOOKUP(M10,서비스코드!$B:$R,13,FALSE),"")
K11: =I11*J11 -> 0 | N11: =IFERROR(VLOOKUP(M11,서비스코드!$B:$R,10,FALSE),"") | P11: =IFERROR(VLOOKUP(M11,서비스코드!$B:$R,17,FALSE),"") | Q11: =IFERROR(O11*P11,"") | T11: =IFERROR(VLOOKUP(M11,서비스코드!$B:$R,13,FALSE),"")
K12: =I12*J12 -> 0 | N12: =IFERROR(VLOOKUP(M12,서비스코드!$B:$R,10,FALSE),"") | P12: =IFERROR(VLOOKUP(M12,서비스코드!$B:$R,17,FALSE),"") | Q12: =IFERROR(O12*P12,"") | T12: =IFERROR(VLOOKUP(M12,서비스코드!$B:$R,13,FALSE),"")
K13: =I13*J13 -> 0 | N13: =IFERROR(VLOOKUP(M13,서비스코드!$B:$R,10,FALSE),"") | P13: =IFERROR(VLOOKUP(M13,서비스코드!$B:$R,17,FALSE),"") | Q13: =IFERROR(O13*P13,"") | T13: =IFERROR(VLOOKUP(M13,서비스코드!$B:$R,13,FALSE),"")
K14: =I14*J14 -> 0 | N14: =IFERROR(VLOOKUP(M14,서비스코드!$B:$R,10,FALSE),"") | P14: =IFERROR(VLOOKUP(M14,서비스코드!$B:$R,17,FALSE),"") | Q14: =IFERROR(O14*P14,"") | T14: =IFERROR(VLOOKUP(M14,서비스코드!$B:$R,13,FALSE),"")
K15: =I15*J15 -> 0 | N15: =IFERROR(VLOOKUP(M15,서비스코드!$B:$R,10,FALSE),"") | P15: =IFERROR(VLOOKUP(M15,서비스코드!$B:$R,17,FALSE),"") | Q15: =IFERROR(O15*P15,"") | T15: =IFERROR(VLOOKUP(M15,서비스코드!$B:$R,13,FALSE),"")
A16: 소 계 | K16: =SUM(K8:K15) -> 0 | Q16: =SUM(Q8:Q15) -> 57667 | T16: =IFERROR(VLOOKUP(M16,[123]서비스코드!$B:$R,13,FALSE),"")
A17: TOTAL | Q17: =K16+Q16 -> 57667

Sheet 작업내용
A2: 단순정비작업내용
A3: 작업일 | B3: 2021.05.14
A4: 작업자 | B4: 서상현
A5: 사용품목
A6: 작업내용 | B6: 고객지원부 인터넷망 OS 재설치
A7: 특이사항

Sheet 물량산출-세부내역
A1: [ 수 량 명 세 서 ]
A2: ○ 공 사 명 : 예산지사 고객지원부 인터넷망 OS 재설치
A4: 사업소명 | B4: 건물위치 (층) | C4: 팀명 | E4: 전산장비 작업내역 | L4: 스위치 HUB | O4: LAN Cable (Cat.5E) | U4: RJ-45 커넥터 | Y4: 몰드 | AB4: 좌석별 멀티콘센트 | AE4: 전원케이블 | AF4: 동축케이블 | AG4: 노출콘센트 | AJ4: UTP 케이블 포설 | AM4: 비고
D5: 좌석 | E5: PC 인터넷 철거 | F5: PC 인터넷 설치 | G5: PC 인터넷 포맷 | H5: IPT | I5: 스캐너 | J5: 기타 팩스 | K5: 계 (포트수) | L5: 기존 HUB | M5: 기존 HUB RACK | N5: 신규 HUB | O5: 단말 연결 케이블 | R5: Patch Cable(Cat.5E) | U5: RJ-45 JACK | V5: RJ-45 CAP | Y5: 대 | Z5: 중 | AA5: 소 | AB5: 4구 3M | AC5: 4구 5M | AD5: 4구 10M | AE5: 2.5*3C | AF5: HFBT-5C | AG5: 플러그 | AH5: 2구 접지 | AI5: 3구 접지 | AJ5: 1열 | AK5: 2열 | AL5: 3열
O6: 포트 | P6: 거리 | Q6: 총량 | R6: 거리(M) | S6: (S.W~S.W) | T6: (S.W~VDSL) | V6: 회색(업무용) | W6: 황색(인터넷) | X6: 녹색(IPT)
A7: 예산지사 | B7: 본관 1층 | C7: 고객지원부 | D7: 1 | G7: 1
B9: 계 | D9: 1 | E9: =SUM(E7:E8) -> 0 | F9: =SUM(F7:F8) -> 0 | G9: =SUM(G7:G8) -> 1 | H9: =SUM(H7:H8) -> 0 | I9: =SUM(I7:I8) -> 0 | J9: =SUM(J7:J8) -> 0 | K9: =SUM(K7:K8) -> 0 | L9: =SUM(L7:L8) -> 0 | ... AL9: =SUM(AL7:AL8) -> 0

Sheet 작업사진
A1: 단순정비 시공 사진
A2: ="단순정비명 : " & '단순정비 설계'!F8 -> 단순정비명 : 인터넷망 OS 재설치
A3: ="사업소 : " & '단순정비 설계'!E8 -> 사업소 : 예산지사 | I3: 공사번호: | J3: ='단순정비 설계'!A8 -> HA091904
B15: 내용 | C15: 인터넷망 OS재설치 전 | G15: 내용 | H15: 인터넷망 OS재설치 후
B27: 내용 | G27: 내용
B39: 내용 | G39: 내용
A40: 단순정비 시공 사진
A41: =A2 -> 단순정비명 : 인터넷망 OS 재설치
A42: =A3 -> 사업소 : 예산지사 | I42: 공사번호: | J42: =J3 -> HA091904
B54: 내용 | G54: 내용
B66: 내용 | G66: 내용
B78: 내용 | G78: 내용

Sheet 품셈#1
A1: [ 단순정비 단가 산출내역 ]
A2: 액세스플로어 | M2: (단위 : 원/m)
A3: 비 목 | D3: 산 정 기 준 | I3: 신증설 | J3: 철거(불용) | K3: 철거(재사용) | L3: 이설 | M3: 비고
A4: 공 사 원 가 | B4: 재 료 비 | D4: ▷ 한전제공 또는 별도 정산
B6: 노 무 비 | C6: 직접노무비 | D6: 구 분 | F6: 직 종 명 | G6: 노임단가 | H6: 노무량(인)
D7: 신증설 | F7: 건축목공 | G7: 188225 | H7: 0.108 | I7: =INT(G7*H7) -> 20328
F8: 보통인부 | G8: 118130 | H8: 0.108 | I8: =INT(G8*H8) -> 12758
D9: 철 거 | F9: =F7 -> 건축목공 | G9: =G7 -> 188225 | H9: =H7*0.5 -> 0.054 | J9: =INT($G9*$H9) -> 10164
D10: (불 용) | F10: =F8 -> 보통인부 | G10: =G8 -> 118130 | H10: =H8*0.5 -> 0.054 | J10: =INT($G10*$H10) -> 6379
D11: 철 거 | F11: =F7 -> 건축목공 | G11: =G7 -> 188225 | H11: =H7*0.8 -> 0.0864 | K11: =INT(G11*H11) -> 16262
D12: (재사용) | F12: =F8 -> 보통인부 | G12: =G8 -> 118130 | H12: =H8*0.8 -> 0.0864 | K12: =INT(G12*H12) -> 10206
D13: 이 설 | F13: =F7 -> 건축목공 | G13: =G7 -> 188225 | H13: =H7+H11 -> 0.1944 | L13: =INT(H13*G13) -> 36590
F14: =F8 -> 보통인부 | G14: =G8 -> 118130 | H14: =H8+H12 -> 0.1944 | L14: =INT(H14*G14) -> 22964
D15: 직접노무비 계 | I15: =SUM(I7:I14) -> 33086 | J15: =SUM(J7:J14) -> 16543 | K15: =SUM(K7:K14) -> 26468 | L15: =SUM(L7:L14) -> 59554
D16: ▷ 통신품셈 3-6-1 [액세스플로어-스틸Floor ] 적용
D17: - 신증설 : 건축목공 0.108(면적 0.6㎡,0.18*0.6) / 보통인부 0.108(면적 0.6㎡)
D18: - 철거 : (불용 : 신증설 × 50%, 재사용 : 신증설 x 80%)
D19: - 이설 : (신증설 + 철거(재사용)) 적용
C20: 간접노무비 | D20: 직접노무비 × 간접노무비율 7.9% | I20: =INT(I15*0.079) -> 2613 | J20: =INT(J15*0.079) -> 1306 | K20: =INT(K15*0.079) -> 2090 | L20: =INT(L15*0.079) -> 4704
C21: 소 계 | I21: =SUM(I15+I20) -> 35699 | J21: =SUM(J15+J20) -> 17849 | K21: =SUM(K15+K20) -> 28558 | L21: =SUM(L15+L20) -> 64258
B22: 기 타 경 비 | D22: (재료비 ＋ 노무비) × 기타경비율 5.5% | I22: =INT((I4+I21)*0.055) -> 1963 | J22: =INT((J4+J21)*0.055) -> 981 | K22: =INT((K4+K21)*0.055) -> 1570 | L22: =INT((L4+L21)*0.055) -> 3534
B23: 공 사 원 가 | D23: 재료비 ＋ 노무비 ＋ 기타경비 | I23: =SUM(I4,I21,I22) -> 37662 | J23: =SUM(J4,J21,J22) -> 18830 | K23: =SUM(K4,K21,K22) -> 30128 | L23: =SUM(L4,L21,L22) -> 67792
A24: 일반관리비 | D24: 공사원가 × 일반관리비율 6% | I24: =INT(I23*0.06) -> 2259 | J24: =INT(J23*0.06) -> 1129 | K24: =INT(K23*0.06) -> 1807 | L24: =INT(L23*0.06) -> 4067
A25: 이 윤 | D25: (공사원가 ＋ 일반관리비 - 재료비) × 이윤율 10% | I25: =INT((I23+I24-I4)*0.1) -> 3992 | J25: =INT((J23+J24-J4)*0.1) -> 1995 | K25: =INT((K23+K24-K4)*0.1) -> 3193 | L25: =INT((L23+L24-L4)*0.1) -> 7185
A26: 합 계 | D26: 공사원가 ＋ 일반관리비 ＋ 이윤 | I26: =SUM(I23:I25) -> 43913 | J26: =SUM(J23:J25) -> 21954 | K26: =SUM(K23:K25) -> 35128 | L26: =SUM(L23:L25) -> 79044
A27: 근무시간외 할증 적용시 단가 | I27: =INT(I26*150%) -> 65869 | J27: =INT(J26*150%) -> 32931 | K27: =INT(K26*150%) -> 52692 | L27: =INT(L26*150%) -> 118566
A28: 합 계 | D28: 낙찰율(95.0676%) 적용 | I28: =INT(I26*95.0676%) -> 41747 | J28: =INT(J26*95.0676%) -> 20871 | K28: =INT(K26*95.0676%) -> 33395 | L28: =INT(L26*95.0676%) -> 75145
A29: 근무시간외 할증 적용시 낙찰율(95.0676%) 적용 | I29: =INT(I28*150%*95.0676%) -> 59531 | J29: =INT(J28*150%*95.0676%) -> 29762 | K29: =INT(K28*150%*95.0676%) -> 47621 | L29: =INT(L28*150%*95.0676%) -> 107157
A30: 합 계 | D30: 낙찰율(95.0676%) * 업무분담율(60%) * 낙찰율(81.19%) | I30: =INT(I26*95.0676%*60%*81.19%) -> 20336 | J30: =INT(J26*95.0676%*60%*81.19%) -> 10167 | K30: =INT(K26*95.0676%*60%*81.19%) -> 16268 | L30: =INT(L26*95.0676%*60%*81.19%) -> 36606
A31: 근무시간외 할증 적용시 낙찰율(95.0676%) * 업무분담율(60%) * 낙찰율(81.19%) | I31: =INT(I30*150%*95.0676%*60%*81.19%) -> 14126 | J31: =INT(J30*150%*95.0676%*60%*81.19%) -> 7062 | K31: =INT(K30*150%*95.0676%*60%*81.19%) -> 11300 | L31: =INT(L30*150%*95.0676%*60%*81.19%) -> 25429

Sheet 품셈#2
A1: [ 단순정비 단가 산출내역 ]
A2: UTP케이블 3열 | M2: (단위 : 원/m)
A3: 비 목 | D3: 산 정 기 준 | I3: 신증설 | J3: 철거(불용) | K3: 철거(재사용) | L3: 이설 | M3: 비고
A4: 공 사 원 가 | B4: 재 료 비 | D4: ▷ 한전제공 또는 별도 정산
B6: 노 무 비 | C6: 직접노무비 | D6: 구 분 | F6: 직 종 명 | G6: 노임단가 | H6: 노무량(인)
D7: 신증설 | F7: 통신케이블공 | G7: 326966 | H7: 0.015 | I7: =INT(G7*H7) -> 4904
I8: =INT(G8*H8) -> 0
D9: 철 거 | F9: =F7 -> 통신케이블공 | G9: =G7 -> 326966 | H9: =H7*0.5 -> 0.0075 | J9: =INT($G9*$H9) -> 2452
D10: (불 용) | J10: =INT($G10*$H10) -> 0
D11: 철 거 | F11: =F7 -> 통신케이블공 | G11: =G7 -> 326966 | H11: =H7*0.9 -> 0.0135 | K11: =INT(G11*H11) -> 4414
D12: (재사용) | K12: =INT(G12*H12) -> 0
D13: 이 설 | F13: =F7 -> 통신케이블공 | G13: =G7 -> 326966 | H13: =H7+H11 -> 0.0285 | L13: =INT(H13*G13) -> 9318
L14: =INT(H14*G14) -> 0
D15: 직접노무비 계 | I15: =SUM(I7:I14) -> 4904 | J15: =SUM(J7:J14) -> 2452 | K15: =SUM(K7:K14) -> 4414 | L15: =SUM(L7:L14) -> 9318
D16: ▷ 통신품셈 4-3-1 [꼬임케이블 포설 - UTP 구내 4Pr ] 적용
D17: - 신증설 : 통신케이블공 0.015인 (3열동시 260%)
D18: - 철거 : (불용 : 신증설 × 50%, 재사용 : 신증설 x 90%)
D19: - 이설 : (신증설 + 철거(재사용)) 적용
C20: 간접노무비 | D20: 직접노무비 × 간접노무비율 7.9% | I20: =INT(I15*0.079) -> 387 | J20: =INT(J15*0.079) -> 193 | K20: =INT(K15*0.079) -> 348 | L20: =INT(L15*0.079) -> 736
C21: 소 계 | I21: =SUM(I15+I20) -> 5291 | J21: =SUM(J15+J20) -> 2645 | K21: =SUM(K15+K20) -> 4762 | L21: =SUM(L15+L20) -> 10054
B22: 기 타 경 비 | D22: (재료비 ＋ 노무비) × 기타경비율 5.5% | I22: =INT((I4+I21)*0.055) -> 291 | J22: =INT((J4+J21)*0.055) -> 145 | K22: =INT((K4+K21)*0.055) -> 261 | L22: =INT((L4+L21)*0.055) -> 552
B23: 공 사 원 가 | D23: 재료비 ＋ 노무비 ＋ 기타경비 | I23: =SUM(I4,I21,I22) -> 5582 | J23: =SUM(J4,J21,J22) -> 2790 | K23: =SUM(K4,K21,K22) -> 5023 | L23: =SUM(L4,L21,L22) -> 10606
A24: 일반관리비 | D24: 공사원가 × 일반관리비율 6% | I24: =INT(I23*0.06) -> 334 | J24: =INT(J23*0.06) -> 167 | K24: =INT(K23*0.06) -> 301 | L24: =INT(L23*0.06) -> 636
A25: 이 윤 | D25: (공사원가 ＋ 일반관리비 - 재료비) × 이윤율 10% | I25: =INT((I23+I24-I4)*0.1) -> 591 | J25: =INT((J23+J24-J4)*0.1) -> 295 | K25: =INT((K23+K24-K4)*0.1) -> 532 | L25: =INT((L23+L24-L4)*0.1) -> 1124
A26: 합 계 | D26: 공사원가 ＋ 일반관리비 ＋ 이윤 | I26: =SUM(I23:I25) -> 6507 | J26: =SUM(J23:J25) -> 3252 | K26: =SUM(K23:K25) -> 5856 | L26: =SUM(L23:L25) -> 12366
A27: 근무시간외 할증 적용시 단가 | I27: =INT(I26*150%) -> 9760 | J27: =INT(J26*150%) -> 4878 | K27: =INT(K26*150%) -> 8784 | L27: =INT(L26*150%) -> 18549
A28: 합 계 | D28: 낙찰율(95.0676%) 적용 * 3열 동시(260%) | I28: =INT(I26*95.0676%)*260% -> 16083.6 | J28: =INT(J26*95.0676%)*260% -> 8036.6 | K28: =INT(K26*95.0676%)*260% -> 14474.2 | L28: =INT(L26*95.0676%)*260% -> 30565.6
A29: 근무시간외 할증 적용시 낙찰율(95.0676%) 적용 * 3열 동시(260%) | I29: =INT(I26*150%*95.0676%)*260% -> 24125.4 | J29: =INT(J26*150%*95.0676%)*260% -> 12056.2 | K29: =INT(K26*150%*95.0676%)*260% -> 21710 | L29: =INT(L26*150%*95.0676%)*260% -> 45848.4
A30: 합 계 | D30: 낙찰율(95.0676%) * 업무분담율(60%) * 낙찰율(81.19%) * 3열동시(260%) | I30: =INT(I26*95.0676%*60%*81.19%)*260% -> 7833.8 | J30: =INT(J26*95.0676%*60%*81.19%)*260% -> 3915.6 | K30: =INT(K26*95.0676%*60%*81.19%)*260% -> 7048.6 | L30: =INT(L26*95.0676%*60%*81.19%)*260% -> 14887.6
A31: 근무시간외 할증 적용시 낙찰율(95.0676%) * 업무분담율(60%) * 낙찰율(81.19%) * 3열동시(260%) | I31: =INT(I26*150%*95.0676%*60%*81.19%)*260% -> 11752 | J31: =INT(J26*150%*95.0676%*60%*81.19%)*260% -> 5873.4 | K31: =INT(K26*150%*95.0676%*60%*81.19%)*260% -> 10574.2 | L31: =INT(L26*150%*95.0676%*60%*81.19%)*260% -> 22334

Sheet 서비스코드
A1: 19년 서비스번호 | B1: 20년 서비스번호 | C1: 21년 서비스번호 | D1: 22년 서비스번호 | E1: 계층레벨1 | F1: 계층레벨2 | G1: 계층레벨3 | H1: 계층레벨4 | I1: 계층레벨5 | J1: 계층레벨6 | K1: 항목 | L1: 기본단위 | M1: 19년단가 | N1: 20년단가 | O1: 21년단가 | P1: 22년단가 | Q1: 하도 구분 | R1: KDN계약단가 | S1: 하도 계약 | T1: 21년
A2: 19001001 | B2: 20001001 | E2: H/W유지보수 | F2: [일반] | G2: 서버 및 주변설비 | H2: 운영서버 | I2: 서버_S(1억원 이상) | K2: [일반] 서버 및 주변설비 운영서버 서버_S(1억원 이상) | L2: 대 | M2: 2654026 | N2: 2654026 | R2: =IF(Q2="유지보수",INT(N2*$T$2*$T$3),IF(Q2="단순정비",INT(N2*$T$2*$T$4),IF(Q2="지장전주",INT(N2*$T$2*$T$5),""))) | S2: 계약낙찰율 | T2: 0.8119
A3: 19001002 | B3: 20001002 | E3: H/W유지보수 | F3: [일반] | G3: 서버 및 주변설비 | H3: 운영서버 | I3: 서버_A(1억원 이상) | K3: [일반] 서버 및 주변설비 운영서버 서버_A(1억원 이상) | L3: 대 | M3: 1543758 | N3: 1543758 | R3: =IF(Q3="유지보수",INT(N3*$T$2*$T$3),IF(Q3="단순정비",INT(N3*$T$2*$T$4),IF(Q3="지장전주",INT(N3*$T$2*$T$5),""))) | S3: 일괄위탁 업무부담율 | T3: 0.9
A4: 19001003 | B4: 20001003 | E4: H/W유지보수 | F4: [일반] | G4: 서버 및 주변설비 | H4: 운영서버 | I4: 서버_B(5,000만원 이상) | K4: [일반] 서버 및 주변설비 운영서버 서버_B(5,000만원 이상) | L4: 대 | M4: 440934 | N4: 440934 | R4: =IF(Q4="유지보수",INT(N4*$T$2*$T$3),IF(Q4="단순정비",INT(N4*$T$2*$T$4),IF(Q4="지장전주",INT(N4*$T$2*$T$5),""))) | S4: 단순정비 업무분담율 | T4: 0.6
A5: 19001004 | B5: 20001004 | E5: H/W유지보수 | F5: [일반] | G5: 서버 및 주변설비 | H5: 운영서버 | I5: 서버_C(3,000만원 이상) | K5: [일반] 서버 및 주변설비 운영서버 서버_C(3,000만원 이상) | L5: 대 | M5: 230292 | N5: 230292 | R5: =IF(Q5="유지보수",INT(N5*$T$2*$T$3),IF(Q5="단순정비",INT(N5*$T$2*$T$4),IF(Q5="지장전주",INT(N5*$T$2*$T$5),""))) | S5: 지장전주 이설공사 업무분담율 | T5: 0.5
A6: 19001005 | B6: 20001005 | E6: H/W유지보수 | F6: [일반] | G6: 서버 및 주변설비 | H6: 운영서버 | I6: 워크스테이션_A(2,000만원 이상) | K6: [일반] 서버 및 주변설비 운영서버 워크스테이션_A(2,000만원 이상) | L6: 대 | M6: 151429 | N6: 151429 | R6: =IF(Q6="유지보수",INT(N6*$T$2*$T$3),IF(Q6="단순정비",INT(N6*$T$2*$T$4),IF(Q6="지장전주",INT(N6*$T$2*$T$5),""))) | S6: 소모품 설치 업무분담율 | T6: 표준단가 설치비 외 없음
A7: 19001006 | B7: 20001006 | E7: H/W유지보수 | F7: [일반] | G7: 서버 및 주변설비 | H7: 운영서버 | I7: 워크스테이션_B(1,000만원 이상) | K7: [일반] 서버 및 주변설비 운영서버 워크스테이션_B(1,000만원 이상) | L7: 대 | M7: 97515 | N7: 97515 | R7: =IF(Q7="유지보수",INT(N7*$T$2*$T$3),IF(Q7="단순정비",INT(N7*$T$2*$T$4),IF(Q7="지장전주",INT(N7*$T$2*$T$5),"")))
A8: 19001007 | B8: 20001007 | E8: H/W유지보수 | F8: [일반] | G8: 서버 및 주변설비 | H8: 운영서버 | I8: 워크스테이션_C(1,000만원 미만) | K8: [일반] 서버 및 주변설비 운영서버 워크스테이션_C(1,000만원 미만) | L8: 대 | M8: 37463 | N8: 37463 | R8: =IF(Q8="유지보수",INT(N8*$T$2*$T$3),IF(Q8="단순정비",INT(N8*$T$2*$T$4),IF(Q8="지장전주",INT(N8*$T$2*$T$5),"")))
A9: 19001008 | B9: 20001008 | E9: H/W유지보수 | F9: [일반] | G9: 서버 및 주변설비 | H9: 저장장치 | I9: VTL | K9: [일반] 서버 및 주변설비 저장장치 VTL | L9: 대 | M9: 875618 | N9: 875618 | R9: =IF(Q9="유지보수",INT(N9*$T$2*$T$3),IF(Q9="단순정비",INT(N9*$T$2*$T$4),IF(Q9="지장전주",INT(N9*$T$2*$T$5),"")))
A10: 19001009 | B10: 20001009 | E10: H/W유지보수 | F10: [일반] | G10: 서버 및 주변설비 | H10: 저장장치 | I10: Tape | K10: [일반] 서버 및 주변설비 저장장치 Tape | L10: 대 | M10: 195305 | N10: 195305 | R10: =IF(Q10="유지보수",INT(N10*$T$2*$T$3),IF(Q10="단순정비",INT(N10*$T$2*$T$4),IF(Q10="지장전주",INT(N10*$T$2*$T$5),"")))
A11: 19001010 | B11: 20001010 | E11: H/W유지보수 | F11: [일반] | G11: 서버 및 주변설비 | H11: 저장장치 | I11: Disk Array | K11: [일반] 서버 및 주변설비 저장장치 Disk Array | L11: 대 | M11: 694318 | N11: 694318 | R11: =IF(Q11="유지보수",INT(N11*$T$2*$T$3),IF(Q11="단순정비",INT(N11*$T$2*$T$4),IF(Q11="지장전주",INT(N11*$T$2*$T$5),"")))
A12: 19001011 | B12: 20001011 | E12: H/W유지보수 | F12: [일반] | G12: 고객지원설비 | H12: CTI시스템 | I12: CTI_IPT미디어장치(Center) | K12: [일반] 고객지원설비 CTI시스템 CTI_IPT미디어장치(Center) | L12: 대 | M12: 937871 | N12: 937871 | R12: =IF(Q12="유지보수",INT(N12*$T$2*$T$3),IF(Q12="단순정비",INT(N12*$T$2*$T$4),IF(Q12="지장전주",INT(N12*$T$2*$T$5),"")))
A13: 19001012 | B13: 20001012 | E13: H/W유지보수 | F13: [일반] | G13: 고객지원설비 | H13: CTI시스템 | I13: CTI_IPT미디어장치(Remote) | K13: [일반] 고객지원설비 CTI시스템 CTI_IPT미디어장치(Remote) | L13: 대 | M13: 177620 | N13: 177620 | R13: =IF(Q13="유지보수",INT(N13*$T$2*$T$3),IF(Q13="단순정비",INT(N13*$T$2*$T$4),IF(Q13="지장전주",INT(N13*$T$2*$T$5),"")))
A14: 19001013 | B14: 20001013 | E14: H/W유지보수 | F14: [일반] | G14: 고객지원설비 | H14: CTI시스템 | I14: CTI_IPT_GATEWAY(Center) | K14: [일반] 고객지원설비 CTI시스템 CTI_IPT_GATEWAY(Center) | L14: 대 | M14: 215309 | N14: 215309 | R14: =IF(Q14="유지보수",INT(N14*$T$2*$T$3),IF(Q14="단순정비",INT(N14*$T$2*$T$4),IF(Q14="지장전주",INT(N14*$T$2*$T$5),"")))
A15: 19001014 | B15: 20001014 | E15: H/W유지보수 | F15: [일반] | G15: 고객지원설비 | H15: CTI시스템 | I15: CTI_IPT_GATEWAY(Remote) | K15: [일반] 고객지원설비 CTI시스템 CTI_IPT_GATEWAY(Remote) | L15: 대 | M15: 161402 | N15: 161402 | R15: =IF(Q15="유지보수",INT(N15*$T$2*$T$3),IF(Q15="단순정비",INT(N15*$T$2*$T$4),IF(Q15="지장전주",INT(N15*$T$2*$T$5),"")))
A16: 19001015 | B16: 20001015 | E16: H/W유지보수 | F16: [일반] | G16: 고객지원설비 | H16: CTI시스템 | I16: 통합통계단말장치 | K16: [일반] 고객지원설비 CTI시스템 통합통계단말장치 | L16: 대 | M16: 54803 | N16: 54803 | R16: =IF(Q16="유지보수",INT(N16*$T$2*$T$3),IF(Q16="단순정비",INT(N16*$T$2*$T$4),IF(Q16="지장전주",INT(N16*$T$2*$T$5),"")))
A17: 19001016 | B17: 20001016 | E17: H/W유지보수 | F17: [일반] | G17: 고객지원설비 | H17: IT지원센타시스템 | I17: A/V Matrix Switcher | K17: [일반] 고객지원설비 IT지원센타시스템 A/V Matrix Switcher | L17: 대 | M17: 78080 | N17: 78080 | R17: =IF(Q17="유지보수",INT(N17*$T$2*$T$3),IF(Q17="단순정비",INT(N17*$T$2*$T$4),IF(Q17="지장전주",INT(N17*$T$2*$T$5),"")))
A18: 19001017 | B18: 20001017 | E18: H/W유지보수 | F18: [일반] | G18: 고객지원설비 | H18: IT지원센타시스템 | I18: RGB Matrix Switcher | K18: [일반] 고객지원설비 IT지원센타시스템 RGB Matrix Switcher | L18: 대 | M18: 109480 | N18: 109480 | R18: =IF(Q18="유지보수",INT(N18*$T$2*$T$3),IF(Q18="단순정비",INT(N18*$T$2*$T$4),IF(Q18="지장전주",INT(N18*$T$2*$T$5),"")))
... A137: 19001136 | B137: 20001136 | E137: H/W유지보수 | F137: [일반] | G137: 교환설비 | H137: IP전화기 | I137: IP전화기(보급형) | K137: [일반] 교환설비 IP전화기 IP전화기(보급형) | L137: 대 | M137: 1414 | N137: 1414 | R137: =IF(Q137="유지보수",INT(N137*$T$2*$T$3),IF(Q137="단순정비",INT(N137*$T$2*$T$4),IF(Q137="지장전주",INT(N137*$T$2*$T$5),"")))
A138: 19001137 | B138: 20001137 | E138: H/W유지보수 | F138: [일반] | G138: 교환설비 | H138: 팩시밀리 | I138: 팩시밀리 | K138: [일반] 교환설비 팩시밀리 팩시밀리 | L138: 대 | M138: 3921 | N138: 3921 | Q138: 유지보수 | R138: =IF(Q138="유지보수",INT(N138*$T$2*$T$3),IF(Q138="단순정비",INT(N138*$T$2*$T$4),IF(Q138="지장전주",INT(N138*$T$2*$T$5),""))) -> 2865
A139: 19001138 | B139: 20001138 | E139: H/W유지보수 | F139: [일반] | G139: 무선설비 | H139: UHF, VHF | I139: 고정, 기지국 | K139: [일반] 무선설비 UHF, VHF 고정, 기지국 | L139: 대 | M139: 19496 | N139: 19496 | R139: =IF(Q139="유지보수",INT(N139*$T$2*$T$3),IF(Q139="단순정비",INT(N139*$T$2*$T$4),IF(Q139="지장전주",INT(N139*$T$2*$T$5),"")))
A140: 19001139 | B140: 20001139 | E140: H/W유지보수 | F140: [일반] | G140: 무선설비 | H140: UHF, VHF | I140: 육상이동국 | K140: [일반] 무선설비 UHF, VHF 육상이동국 | L140: 대 | M140: 14363 | N140: 14363 | R140: =IF(Q140="유지보수",INT(N140*$T$2*$T$3),IF(Q140="단순정비",INT(N140*$T$2*$T$4),IF(Q140="지장전주",INT(N140*$T$2*$T$5),"")))
A141: 19001140 | B141: 20001140 | E141: H/W유지보수 | F141: [일반] | G141: 무선설비 | H141: UHF, VHF | I141: 휴대용 | K141: [일반] 무선설비 UHF, VHF 휴대용 | L141: 대 | M141: 7487 | N141: 7487 | R141: =IF(Q141="유지보수",INT(N141*$T$2*$T$3),IF(Q141="단순정비",INT(N141*$T$2*$T$4),IF(Q141="지장전주",INT(N141*$T$2*$T$5),"")))
A142: 19001141 | B142: 20001141 | E142: H/W유지보수 | F142: [일반] | G142: 무선설비 | H142: 디지털TRS | I142: 디지털TRS 교환기 | K142: [일반] 무선설비 디지털TRS 디지털TRS 교환기 | L142: 대 | M142: 1615343 | N142: 1615343 | R142: =IF(Q142="유지보수",INT(N142*$T$2*$T$3),IF(Q142="단순정비",INT(N142*$T$2*$T$4),IF(Q142="지장전주",INT(N142*$T$2*$T$5),"")))
A143: 19001142 | B143: 20001142 | E143: H/W유지보수 | F143: [일반] | G143: 무선설비 | H143: 디지털TRS | I143: 이동중계(국)장치(1) | K143: [일반] 무선설비 디지털TRS 이동중계(국)장치(1) | L143: 대 | M143: 558426 | N143: 558426 | R143: =IF(Q143="유지보수",INT(N143*$T$2*$T$3),IF(Q143="단순정비",INT(N143*$T$2*$T$4),IF(Q143="지장전주",INT(N143*$T$2*$T$5),"")))
A144: 19001143 | B144: 20001143 | E144: H/W유지보수 | F144: [일반] | G144: 무선설비 | H144: 디지털TRS | I144: 무선통신장치(WiMAX) | K144: [일반] 무선설비 디지털TRS 무선통신장치(WiMAX) | L144: 대 | M144: 67443 | N144: 67443 | R144: =IF(Q144="유지보수",INT(N144*$T$2*$T$3),IF(Q144="단순정비",INT(N144*$T$2*$T$4),IF(Q144="지장전주",INT(N144*$T$2*$T$5),"")))
A145: 19001144 | B145: 20001144 | E145: H/W유지보수 | F145: [일반] | G145: 무선설비 | H145: 디지털TRS | I145: TDM GW(SLOT형) | K145: [일반] 무선설비 디지털TRS TDM GW(SLOT형) | L145: 대 | M145: 8534 | N145: 8534 | R145: =IF(Q145="유지보수",INT(N145*$T$2*$T$3),IF(Q145="단순정비",INT(N145*$T$2*$T$4),IF(Q145="지장전주",INT(N145*$T$2*$T$5),"")))
A146: 19001145 | B146: 20001145 | E146: H/W유지보수 | F146: [일반] | G146: 무선설비 | H146: 디지털TRS | I146: TDM GW(단독형) | K146: [일반] 무선설비 디지털TRS TDM GW(단독형) | L146: 대 | M146: 10664 | N146: 10664 | R146: =IF(Q146="유지보수",INT(N146*$T$2*$T$3),IF(Q146="단순정비",INT(N146*$T$2*$T$4),IF(Q146="지장전주",INT(N146*$T$2*$T$5),"")))
A147: 19001146 | B147: 20001146 | E147: H/W유지보수 | F147: [일반] | G147: 무선설비 | H147: 디지털TRS | I147: 차량용단말기/고정국(1) | K147: [일반] 무선설비 디지털TRS 차량용단말기/고정국(1) | L147: 대 | M147: 6226 | N147: 6226 | R147: =IF(Q147="유지보수",INT(N147*$T$2*$T$3),IF(Q147="단순정비",INT(N147*$T$2*$T$4),IF(Q147="지장전주",INT(N147*$T$2*$T$5),"")))
A148: 19001147 | B148: 20001147 | E148: H/W유지보수 | F148: [일반] | G148: 무선설비 | H148: 디지털TRS | I148: 휴대용 단말기 | K148: [일반] 무선설비 디지털TRS 휴대용 단말기 | L148: 대 | M148: 2841 | N148: 2841 | R148: =IF(Q148="유지보수",INT(N148*$T$2*$T$3),IF(Q148="단순정비",INT(N148*$T$2*$T$4),IF(Q148="지장전주",INT(N148*$T$2*$T$5),"")))
A149: 19001148 | B149: 20001148 | E149: H/W유지보수 | F149: [일반] | G149: 무선설비 | H149: 디지털TRS | I149: 이동중계(국) 외함 | K149: [일반] 무선설비 디지털TRS 이동중계(국) 외함 | L149: 대 | M149: 50734 | N149: 50734 | R149: =IF(Q149="유지보수",INT(N149*$T$2*$T$3),IF(Q149="단순정비",INT(N149*$T$2*$T$4),IF(Q149="지장전주",INT(N149*$T$2*$T$5),"")))
A150: 19001149 | B150: 20001149 | E150: H/W유지보수 | F150: [일반] | G150: 무선설비 | H150: 디지털TRS | I150: 환경감시시스템 | K150: [일반] 무선설비 디지털TRS 환경감시시스템 | L150: 대 | M150: 62459 | N150: 62459 | R150: =IF(Q150="유지보수",INT(N150*$T$2*$T$3),IF(Q150="단순정비",INT(N150*$T$2*$T$4),IF(Q150="지장전주",INT(N150*$T$2*$T$5),"")))
... A314: 19001313 | B314: 20001313 | E314: H/W유지보수 | F314: [일반] | G314: 멀티미디어 설비 | H314: VR장치 | I314: VR장치(HMD) | K314: [일반] 멀티미디어 설비 VR장치 VR장치(HMD) | L314: 대 | M314: 19489 | N314: 19489 | R314: =IF(Q314="유지보수",INT(N314*$T$2*$T$3),IF(Q314="단순정비",INT(N314*$T$2*$T$4),IF(Q314="지장전주",INT(N314*$T$2*$T$5),"")))
A315: 19001314 | B315: 20001314 | E315: H/W유지보수 | F315: [일반] | G315: 멀티미디어 설비 | H315: 통합정보표시시스템 | I315: 통합정보표시 단말장치 | K315: [일반] 멀티미디어 설비 통합정보표시시스템 통합정보표시 단말장치 | L315: 대 | M315: 11811 | N315: 11811 | Q315: 유지보수 | R315: =IF(Q315="유지보수",INT(N315*$T$2*$T$3),IF(Q315="단순정비",INT(N315*$T$2*$T$4),IF(Q315="지장전주",INT(N315*$T$2*$T$5),""))) -> 8630
A316: 19001315 | B316: 20001315 | E316: H/W유지보수 | F316: [일반] | G316: 멀티미디어 설비 | H316: 화상회의설비 | I316: CODEC/화상회의시스템(일체형) | K316: [일반] 멀티미디어 설비 화상회의설비 CODEC/화상회의시스템(일체형) | L316: 대 | M316: 118338 | N316: 118338 | R316: =IF(Q316="유지보수",INT(N316*$T$2*$T$3),IF(Q316="단순정비",INT(N316*$T$2*$T$4),IF(Q316="지장전주",INT(N316*$T$2*$T$5),"")))
A317: 19001316 | B317: 20001316 | E317: H/W유지보수 | F317: [일반] | G317: 멀티미디어 설비 | H317: 화상회의설비 | I317: MCU/다자간회의시스템(일체형) | K317: [일반] 멀티미디어 설비 화상회의설비 MCU/다자간회의시스템(일체형) | L317: 대 | M317: 177116 | N317: 177116 | R317: =IF(Q317="유지보수",INT(N317*$T$2*$T$3),IF(Q317="단순정비",INT(N317*$T$2*$T$4),IF(Q317="지장전주",INT(N317*$T$2*$T$5),"")))
A318: 19001317 | B318: 20001317 | E318: H/W유지보수 | F318: [일반] | G318: 멀티미디어 설비 | H318: 화상회의설비 | I318: VideoCenter/실시간 스트리밍 시스템(일체형) | K318: [일반] 멀티미디어 설비 화상회의설비 VideoCenter/실시간 스트리밍 시스템(일체형) | L318: 대 | M318: 433980 | N318: 433980 | R318: =IF(Q318="유지보수",INT(N318*$T$2*$T$3),IF(Q318="단순정비",INT(N318*$T$2*$T$4),IF(Q318="지장전주",INT(N318*$T$2*$T$5),"")))
A319: 19001318 | B319: 20001318 | E319: H/W유지보수 | F319: [일반] | G319: 멀티미디어 설비 | H319: HD방송 | I319: 프롬프터 | K319: [일반] 멀티미디어 설비 HD방송 프롬프터 | L319: 대 | M319: 108362 | N319: 108362 | R319: =IF(Q319="유지보수",INT(N319*$T$2*$T$3),IF(Q319="단순정비",INT(N319*$T$2*$T$4),IF(Q319="지장전주",INT(N319*$T$2*$T$5),"")))
A320: 19001319 | B320: 20001319 | E320: H/W유지보수 | F320: [일반] | G320: 멀티미디어 설비 | H320: HD방송 | I320: 조명 | K320: [일반] 멀티미디어 설비 HD방송 조명 | L320: 대 | M320: 2159416 | N320: 2159416 | R320: =IF(Q320="유지보수",INT(N320*$T$2*$T$3),IF(Q320="단순정비",INT(N320*$T$2*$T$4),IF(Q320="지장전주",INT(N320*$T$2*$T$5),"")))
A321: 19001320 | B321: 20001320 | E321: H/W유지보수 | F321: [일반] | G321: 멀티미디어 설비 | H321: HD방송 | I321: DID | K321: [일반] 멀티미디어 설비 HD방송 DID | L321: 대 | M321: 41842 | N321: 41842 | R321: =IF(Q321="유지보수",INT(N321*$T$2*$T$3),IF(Q321="단순정비",INT(N321*$T$2*$T$4),IF(Q321="지장전주",INT(N321*$T$2*$T$5),"")))
...

Sheet 19년하반기노임
A1: 시중노임 단가
A3: 공 표 일 | C3: 2020년 하반기 | D3: 2019년 하반기
A4: 번 호 | B4: 직 종 명
A5: 1001 | B5: 작업반장 | C5: 174074 | D5: 159003
A6: 1002 | B6: 보통인부 | C6: 138989 | D6: 130264
A7: 1003 | B7: 특별인부 | C7: 167926 | D7: 155599
A8: 1004 | B8: 조력공 | C8: 144651 | D8: 140220
A9: 1005 | B9: 제도사 | C9: 178602 | D9: 167434
A10: 1006 | B10: 비계공 | C10: 236858 | D10: 228462
A11: 1007 | B11: 형틀목공 | C11: 220808 | D11: 207239
A12: 1008 | B12: 철근공 | C12: 225461 | D12: 212935
A13: 1009 | B13: 철공 | C13: 194315 | D13: 184100
A14: 1010 | B14: 철판공 | C14: 186880 | D14: 178010
A15: 1011 | B15: 철골공 | C15: 204375 | D15: 198829
A16: 1012 | B16: 용접공 | C16: 224357 | D16: 209394
... A35: 1031 | B35: 도배공 | C35: 179138 | D35: 169575
A36: *1032 | B36: 연마공 | C36: 164445 | D36: 153200
A37: 1033 | B37: 석공 | C37: 218442 | D37: 204974
A38: 1034 | B38: 줄눈공 | C38: 161213 | D38: 150525
A39: 1035 | B39: 판넬조립공 | C39: 191294 | D39: 176700
A40: 1036 | B40: 지붕잇기공 | C40: 185074 | D40: 169590
A41: *1037 | B41: 벌목부 | C41: 185580 | D41: 174278
A42: 1038 | B42: 조경공 | C42: 183149 | D42: 175057
A43: 1039 | B43: 배관공 | C43: 189198 | D43: 186665
A44: 1040 | B44: 배관공(수도) | C44: 197689 | D44: 180219
A45: *1041 | B45: 보일러공 | C45: 193985 | D45: 178567
A46: 1042 | B46: 위생공 | C46: 188808 | D46: 173148
A47: 1043 | B47: 덕트공 | C47: 177520 | D47: 164907
A48: 1044 | B48: 보온공 | C48: 188789 | D48: 174352
A49: 1045 | B49: 인력운반공 | C49: 151659 | D49: 146205
A50: *1046 | B50: 궤도공 | C50: 167430 | D50: 159726
A51: *1047 | B51: 건설기계조장 | C51: 160000 | D51: 150469
A52: 1048 | B52: 건설기계운전사 | C52: 203878 | D52: 190235
A53: 1049 | B53: 화물차운전사 | C53: 176975 | D53: 166752
A54: *1050 | B54: 일반기계운전사 | C54: 137974 | D54: 131528
A55: 1051 | B55: 기계설비공 | C55: 191587 | D55: 175669
A56: *1052 | B56: 준설선선장 | C56: 191388 | D56: 153960
A57: *1053 | B57: 준설선기관사 | C57: 168421 | D57: 140829
A58: *1054 | B58: 준설선운전사 | C58: 164411 | D58: 139161
A59: *1055 | B59: 선원 | C59: 148607 | D59: 137972
...
